19.29514900000000
0.00000000000000
0.00000000000000
-19.29514900000000
8130184.34757450040000
-253707.22757449999000
