19.29514900000000
0.00000000000000
0.00000000000000
-19.29514900000000
8130184.34757450036705
-253707.22757449999335
